BEGIN:VCALENDAR
VERSION:2.0
PRODID:-//Dorpsraad Hensbroek - Wogmeer - ECPv6.15.20//NONSGML v1.0//EN
CALSCALE:GREGORIAN
METHOD:PUBLISH
X-WR-CALNAME:Dorpsraad Hensbroek - Wogmeer
X-ORIGINAL-URL:https://dorpsraadhensbroekwogmeer.nl
X-WR-CALDESC:Evenementen voor Dorpsraad Hensbroek - Wogmeer
REFRESH-INTERVAL;VALUE=DURATION:PT1H
X-Robots-Tag:noindex
X-PUBLISHED-TTL:PT1H
BEGIN:VTIMEZONE
TZID:UTC
BEGIN:STANDARD
TZOFFSETFROM:+0000
TZOFFSETTO:+0000
TZNAME:UTC
DTSTART:20220101T000000
END:STANDARD
END:VTIMEZONE
BEGIN:VEVENT
DTSTART;TZID=UTC:20260418T180000
DTEND;TZID=UTC:20260419T013000
DTSTAMP:20260422T215121
CREATED:20260202T111233Z
LAST-MODIFIED:20260202T111233Z
UID:1429-1776535200-1776562200@dorpsraadhensbroekwogmeer.nl
SUMMARY:Hensbroek Live Festival
DESCRIPTION:
URL:https://dorpsraadhensbroekwogmeer.nl/event/hensbroek-live-festival/
END:VEVENT
BEGIN:VEVENT
DTSTART;TZID=UTC:20251116T103000
DTEND;TZID=UTC:20251116T120000
DTSTAMP:20260422T215121
CREATED:20250309T080814Z
LAST-MODIFIED:20251002T175242Z
UID:1220-1763289000-1763294400@dorpsraadhensbroekwogmeer.nl
SUMMARY:Dorpsontmoeting
DESCRIPTION:
URL:https://dorpsraadhensbroekwogmeer.nl/event/dorpsontmoeting-4/
END:VEVENT
BEGIN:VEVENT
DTSTART;TZID=UTC:20230326T103000
DTEND;TZID=UTC:20230326T123000
DTSTAMP:20260422T215121
CREATED:20230320T152112Z
LAST-MODIFIED:20230320T152112Z
UID:953-1679826600-1679833800@dorpsraadhensbroekwogmeer.nl
SUMMARY:Dorpsontmoeting
DESCRIPTION:
URL:https://dorpsraadhensbroekwogmeer.nl/event/dorpsontmoeting-2/
END:VEVENT
BEGIN:VEVENT
DTSTART;TZID=UTC:20230314T193000
DTEND;TZID=UTC:20230314T210000
DTSTAMP:20260422T215121
CREATED:20230310T193034Z
LAST-MODIFIED:20230623T082204Z
UID:207-1678822200-1678827600@dorpsraadhensbroekwogmeer.nl
SUMMARY:Openbare vergadering Dorpsraad
DESCRIPTION:
URL:https://dorpsraadhensbroekwogmeer.nl/event/bewonersbijeenkomst-dorpsraad/
END:VEVENT
END:VCALENDAR