BEGIN:VCALENDAR
VERSION:2.0
PRODID:-//Dorpsraad Hensbroek - Wogmeer - ECPv6.15.20//NONSGML v1.0//EN
CALSCALE:GREGORIAN
METHOD:PUBLISH
X-WR-CALNAME:Dorpsraad Hensbroek - Wogmeer
X-ORIGINAL-URL:https://dorpsraadhensbroekwogmeer.nl
X-WR-CALDESC:Evenementen voor Dorpsraad Hensbroek - Wogmeer
REFRESH-INTERVAL;VALUE=DURATION:PT1H
X-Robots-Tag:noindex
X-PUBLISHED-TTL:PT1H
BEGIN:VTIMEZONE
TZID:UTC
BEGIN:STANDARD
TZOFFSETFROM:+0000
TZOFFSETTO:+0000
TZNAME:UTC
DTSTART:20250101T000000
END:STANDARD
END:VTIMEZONE
BEGIN:VEVENT
DTSTART;TZID=UTC:20260418T180000
DTEND;TZID=UTC:20260419T013000
DTSTAMP:20260422T214747
CREATED:20260202T111233Z
LAST-MODIFIED:20260202T111233Z
UID:1429-1776535200-1776562200@dorpsraadhensbroekwogmeer.nl
SUMMARY:Hensbroek Live Festival
DESCRIPTION:
URL:https://dorpsraadhensbroekwogmeer.nl/event/hensbroek-live-festival/
END:VEVENT
BEGIN:VEVENT
DTSTART;VALUE=DATE:20260705
DTEND;VALUE=DATE:20260706
DTSTAMP:20260422T214747
CREATED:20240205T111629Z
LAST-MODIFIED:20260202T095301Z
UID:1234-1783209600-1783295999@dorpsraadhensbroekwogmeer.nl
SUMMARY:Historisch Festival 'Geen Heden Zonder Verleden
DESCRIPTION:
URL:https://dorpsraadhensbroekwogmeer.nl/event/10e-historisch-festival-geen-heden-zonder-verleden/
END:VEVENT
END:VCALENDAR